Workbook

Sheet お客様情報_必須
A1: サルコイドーシス検出用プライマー、プローブ専用申込用紙
A2: ・ 保存した入力済みファイル（.xlsx）をメール添付またはWEBフォームよりニッポンジーン オリゴ受注窓口 <oligo-order@nippongene.com>までお送りください。
A3: ・ サービスごとに申込用紙(エクセルファイル)が異なりますのでご注意願います。配列情報は”Order Sheet”にご記入ください。
A4: ・ 本紙は、サルコイドーシス検出用プライマー、プローブ専用申込用紙です。通常のオリゴ合成サービスをご希望の場合は、別の申込用紙をご利用ください。
A6: お客様情報
A7: ご記入日 | B7: 46023 | C7: ← ここからご入力願います。
A8: お名前 [必須] | B8: お名前 | C8: ご注文者様の氏名
A9: ご所属 [必須] | B9: ご所属 | C9: 学校、研究機関、会社、勤務先名、部署名まで詳細にご記入ください
A10: 代理店 [必須] | B10: 代理店 | C10: 代理店の支店名までご記入ください（請求先となります） 富士フイルム和光純薬株式会社代理店リスト：https://www.fujifilm.com/ffwk/ja/about/partners
A11: ご住所 [必須] | B11: 〒 | C11: 郵便番号、番地、部屋番号までご記入ください
A12: TEL [必須] | C12: 電話番号（直送の場合、送り状伝票に記載されます）
A13: Email [必須] | C13: ご注文者様のメールアドレス
A14: 配達先 [必須] | B14: 上記代理店へ配達 | C14: 配達先についてご希望をプルダウンから選択してください
A15: コメント | C15: お届け先やご注文内容について補足がありましたらご記入ください [任意]

Sheet Order Sheet
A1: =IF(お客様情報_必須!$B$8=0,"お客様情報より入力",お客様情報_必須!$B$8) -> お名前 | B1: 様からのオリゴのご注文
A2: =SUM(A7:A36) -> 0 | B2: ご注文本数合計(エラー有は除く)
A5: ご注文本数 | B5: 標的トランスクリプト | C5: プライマープローブの種類 | D5: 精製 | E5: 納品形態 | F5: 5'修飾 | G5: 3'修飾 | H5: 合成スケール | I5: 試料名 | J5: 塩基配列情報(5' to 3') | K5: 保証収量 | L5: 鎖長 | M5: 備考
D6: 選択不可 | E6: 選択不可 | F6: 選択不可 | G6: 選択不可 | H6: 選択不可 | I6: 選択不可 | J6: 選択不可 | K6: 選択不可 | L6: 選択不可
B7: LOC107984475 | C7: Forward Primer | D7: Cartridge | E7: Dried | H7: 0.05 | I7: LOC107984475_F | J7: CCAGCCATGTGAAACTGAGGAAGA | K7: 2 O.D. | L7: =IF(Ref!H7>35,Ref!$I$106,IF(AND(ISERROR(FIND(" ",J7)),ISERROR(FIND(" ",J7))),Ref!H7,Ref!$I$107)) -> 24
B8: LOC107984475 | C8: Reverse Primer | D8: Cartridge | E8: Dried | H8: 0.05 | I8: LOC107984475_R | J8: AGATGACTTTCTGTCTGGCACCTGA | K8: 2 O.D. | L8: =IF(Ref!H8>35,Ref!$I$106,IF(AND(ISERROR(FIND(" ",J8)),ISERROR(FIND(" ",J8))),Ref!H8,Ref!$I$107)) -> 25
B9: LOC107984475 | C9: Double-Dye Probe | D9: HPLC | E9: Dried | F9: FAM | G9: MGB Dark Quencher | H9: 0.2 | I9: LOC107984475_P | J9: TCCTCCCCACTGGAACACCAAATTGA | K9: 10 nmol | L9: =IF(Ref!H9>35,Ref!$I$106,IF(AND(ISERROR(FIND(" ",J9)),ISERROR(FIND(" ",J9))),Ref!H9,Ref!$I$107)) -> 26
B10: SMFT4 | C10: Forward Primer | D10: Cartridge | E10: Dried | H10: 0.05 | I10: SMFT4_F | J10: CCTGCTTTATGCAAAACAAGAGCA | K10: 2 O.D. | L10: =IF(Ref!H10>35,Ref!$I$106,IF(AND(ISERROR(FIND(" ",J10)),ISERROR(FIND(" ",J10))),Ref!H10,Ref!$I$107)) -> 24
B11: SMFT4 | C11: Reverse Primer | D11: Cartridge | E11: Dried | H11: 0.05 | I11: SMFT4_R | J11: AGGTGCCTGCCAGCTACCAC | K11: 2 O.D. | L11: =IF(Ref!H11>35,Ref!$I$106,IF(AND(ISERROR(FIND(" ",J11)),ISERROR(FIND(" ",J11))),Ref!H11,Ref!$I$107)) -> 20
B12: SMFT4 | C12: Double-Dye Probe | D12: HPLC | E12: Dried | F12: FAM | G12: MGB Dark Quencher | H12: 0.2 | I12: SMFT4_P | J12: TAGAACACCCAAGAAAG | K12: 10 nmol | L12: =IF(Ref!H12>35,Ref!$I$106,IF(AND(ISERROR(FIND(" ",J12)),ISERROR(FIND(" ",J12))),Ref!H12,Ref!$I$107)) -> 17
B13: THE1B/CIR1 | C13: Forward Primer | D13: Cartridge | E13: Dried | H13: 0.05 | I13: THE1B/CIR1_F | J13: CCAGCCACATGGAACTGGC | K13: 2 O.D. | L13: =IF(Ref!H13>35,Ref!$I$106,IF(AND(ISERROR(FIND(" ",J13)),ISERROR(FIND(" ",J13))),Ref!H13,Ref!$I$107)) -> 19
B14: THE1B/CIR1 | C14: Reverse Primer | D14: Cartridge | E14: Dried | H14: 0.05 | I14: THE1B/CIR1_R | J14: TCTCCAGTCGATCTAATTTCCTGAGAAG | K14: 2 O.D. | L14: =IF(Ref!H14>35,Ref!$I$106,IF(AND(ISERROR(FIND(" ",J14)),ISERROR(FIND(" ",J14))),Ref!H14,Ref!$I$107)) -> 28
B15: THE1B/CIR1 | C15: Double-Dye Probe | D15: HPLC | E15: Dried | F15: FAM | G15: MGB Dark Quencher | H15: 0.2 | I15: THE1B/CIR1_P | J15: CATCGATGCACCCCTCGGAGCTAA | K15: 10 nmol | L15: =IF(Ref!H15>35,Ref!$I$106,IF(AND(ISERROR(FIND(" ",J15)),ISERROR(FIND(" ",J15))),Ref!H15,Ref!$I$107)) -> 24
B16: THE1B/ENSG00000259760.1 | C16: Forward Primer | D16: Cartridge | E16: Dried | H16: 0.05 | I16: THE1B/259760.1_F | J16: AAAAAATGTACTAACAGATATGTAAAGTCTGTCATCC | K16: 1 O.D. | L16: 37
B17: THE1B/ENSG00000259760.1 | C17: Reverse Primer | D17: Cartridge | E17: Dried | H17: 0.05 | I17: THE1B/259760.1_R | J17: CAAAGATAATTTGAATAAATATAAAGAAATTTCGTGTTC | K17: 1 O.D. | L17: 39
B18: THE1B/ENSG00000259760.1 | C18: Double-Dye Probe | D18: HPLC | E18: Dried | F18: FAM | G18: MGB Dark Quencher | H18: 0.2 | I18: THE1B/259760.1_P | J18: CAAATTTTGCCTACGGTATG | K18: 10 nmol | L18: =IF(Ref!H18>35,Ref!$I$106,IF(AND(ISERROR(FIND(" ",J18)),ISERROR(FIND(" ",J18))),Ref!H18,Ref!$I$107)) -> 20
B19: LINC02154 | C19: Forward Primer | D19: Cartridge | E19: Dried | H19: 0.05 | I19: LINC02154_F | J19: CTCCCCAGCCATGTGGAACTTATA | K19: 2 O.D. | L19: =IF(Ref!H19>35,Ref!$I$106,IF(AND(ISERROR(FIND(" ",J19)),ISERROR(FIND(" ",J19))),Ref!H19,Ref!$I$107)) -> 24
B20: LINC02154 | C20: Reverse Primer | D20: Cartridge | E20: Dried | H20: 0.05 | I20: LINC02154_R | J20: TGAACCATGCCTGGAAGGGAT | K20: 2 O.D. | L20: =IF(Ref!H20>35,Ref!$I$106,IF(AND(ISERROR(FIND(" ",J20)),ISERROR(FIND(" ",J20))),Ref!H20,Ref!$I$107)) -> 21
B21: LINC02154 | C21: Double-Dye Probe | D21: HPLC | E21: Dried | F21: FAM | G21: MGB Dark Quencher | H21: 0.2 | I21: LINC02154_P | J21: ATGTTCCAAATAAGACTTTC | K21: 10 nmol | L21: =IF(Ref!H21>35,Ref!$I$106,IF(AND(ISERROR(FIND(" ",J21)),ISERROR(FIND(" ",J21))),Ref!H21,Ref!$I$107)) -> 20
B22: THE1B/DNAJC5B.1 | C22: Forward Primer | D22: Cartridge | E22: Dried | H22: 0.05 | I22: THE1B/DNAJC5B.1_F | J22: TACTTCATGCTGTCGAGCTGGTG | K22: 2 O.D. | L22: =IF(Ref!H22>35,Ref!$I$106,IF(AND(ISERROR(FIND(" ",J22)),ISERROR(FIND(" ",J22))),Ref!H22,Ref!$I$107)) -> 23
B23: THE1B/DNAJC5B.1 | C23: Reverse Primer | D23: Cartridge | E23: Dried | H23: 0.05 | I23: THE1B/DNAJC5B.1_R | J23: TCCTCCAGATCCTCTGGGGAC | K23: 2 O.D. | L23: =IF(Ref!H23>35,Ref!$I$106,IF(AND(ISERROR(FIND(" ",J23)),ISERROR(FIND(" ",J23))),Ref!H23,Ref!$I$107)) -> 21
B24: THE1B/DNAJC5B.1 | C24: Double-Dye Probe | D24: HPLC | E24: Dried | F24: FAM | G24: MGB Dark Quencher | H24: 0.2 | I24: THE1B/DNAJC5B.1_P | J24: CGGGCTGCTACTTT | K24: 10 nmol | L24: =IF(Ref!H24>35,Ref!$I$106,IF(AND(ISERROR(FIND(" ",J24)),ISERROR(FIND(" ",J24))),Ref!H24,Ref!$I$107)) -> 14
B25: ENTHD1 | C25: Forward Primer | D25: Cartridge | E25: Dried | H25: 0.05 | I25: ENTHD1_F | J25: GATTCTACTTTCCATAACCAGGCCTCTGT | K25: 2 O.D. | L25: =IF(Ref!H25>35,Ref!$I$106,IF(AND(ISERROR(FIND(" ",J25)),ISERROR(FIND(" ",J25))),Ref!H25,Ref!$I$107)) -> 29
B26: ENTHD1 | C26: Reverse Primer | D26: Cartridge | E26: Dried | H26: 0.05 | I26: ENTHD1_R | J26: CCTCAGAAGCAGTTGAAACCCGT | K26: 2 O.D. | L26: =IF(Ref!H26>35,Ref!$I$106,IF(AND(ISERROR(FIND(" ",J26)),ISERROR(FIND(" ",J26))),Ref!H26,Ref!$I$107)) -> 23
B27: ENTHD1 | C27: Double-Dye Probe | D27: HPLC | E27: Dried | F27: FAM | G27: MGB Dark Quencher | H27: 0.2 | I27: ENTHD1_P | J27: AATCAACAAGGCCTACCAG | K27: 10 nmol | L27: =IF(Ref!H27>35,Ref!$I$106,IF(AND(ISERROR(FIND(" ",J27)),ISERROR(FIND(" ",J27))),Ref!H27,Ref!$I$107)) -> 19
B28: THE1B/ENSG00000259760.2 | C28: Forward Primer | D28: Cartridge | E28: Dried | H28: 0.05 | I28: THE1B/259760.2_F | J28: GGTCTATCCAAAAAATGTACTAACAGATATGTAAACC | K28: 1 O.D. | L28: 37
B29: THE1B/ENSG00000259760.2 | C29: Reverse Primer | D29: Cartridge | E29: Dried | H29: 0.05 | I29: THE1B/259760.2_R | J29: TGCTACAGATTAGCAGGGTCCCACT | K29: 2 O.D. | L29: =IF(Ref!H29>35,Ref!$I$106,IF(AND(ISERROR(FIND(" ",J29)),ISERROR(FIND(" ",J29))),Ref!H29,Ref!$I$107)) -> 25
B30: THE1B/ENSG00000259760.2 | C30: Double-Dye Probe | D30: HPLC | E30: Dried | F30: FAM | G30: MGB Dark Quencher | H30: 0.2 | I30: THE1B/259760.2_P | J30: TCCAAGTGAGATTCTG | K30: 10 nmol | L30: =IF(Ref!H30>35,Ref!$I$106,IF(AND(ISERROR(FIND(" ",J30)),ISERROR(FIND(" ",J30))),Ref!H30,Ref!$I$107)) -> 16
B31: SIRPB1-SIRPD | C31: Forward Primer | D31: Cartridge | E31: Dried | H31: 0.05 | I31: SIRPB1-SIRPD_F | J31: ACCTCCCAAGAACAGACCTGCA | K31: 2 O.D. | L31: =IF(Ref!H31>35,Ref!$I$106,IF(AND(ISERROR(FIND(" ",J31)),ISERROR(FIND(" ",J31))),Ref!H31,Ref!$I$107)) -> 22
B32: SIRPB1-SIRPD | C32: Reverse Primer | D32: Cartridge | E32: Dried | H32: 0.05 | I32: SIRPB1-SIRPD_R | J32: TGTCTCCAGGGAGTCAGAAGAGTATGG | K32: 2 O.D. | L32: =IF(Ref!H32>35,Ref!$I$106,IF(AND(ISERROR(FIND(" ",J32)),ISERROR(FIND(" ",J32))),Ref!H32,Ref!$I$107)) -> 27
B33: SIRPB1-SIRPD | C33: Double-Dye Probe | D33: HPLC | E33: Dried | F33: FAM | G33: MGB Dark Quencher | H33: 0.2 | I33: SIRPB1-SIRPD_P | J33: CCTGCTGCTGCCTC | K33: 10 nmol | L33: =IF(Ref!H33>35,Ref!$I$106,IF(AND(ISERROR(FIND(" ",J33)),ISERROR(FIND(" ",J33))),Ref!H33,Ref!$I$107)) -> 14
B34: TBP (Internal control) | C34: Forward Primer | D34: Cartridge | E34: Dried | H34: 0.05 | I34: TBP_F | J34: GCCAGCTTCGGAGAGTTCTG | K34: 2 O.D. | L34: =IF(Ref!H34>35,Ref!$I$106,IF(AND(ISERROR(FIND(" ",J34)),ISERROR(FIND(" ",J34))),Ref!H34,Ref!$I$107)) -> 20
B35: TBP (Internal control) | C35: Reverse Primer | D35: Cartridge | E35: Dried | H35: 0.05 | I35: TBP_R | J35: CAACCAAGATTCACTGTGGATACAA | K35: 2 O.D. | L35: =IF(Ref!H35>35,Ref!$I$106,IF(AND(ISERROR(FIND(" ",J35)),ISERROR(FIND(" ",J35))),Ref!H35,Ref!$I$107)) -> 25
B36: TBP (Internal control) | C36: Double-Dye Probe | D36: HPLC | E36: Dried | F36: BriADD549 | G36: MGB Dark Quencher | H36: 0.2 | I36: TBP_P | J36: TTGTACCGCAGCTGC | K36: 10 nmol | L36: =IF(Ref!H36>35,Ref!$I$106,IF(AND(ISERROR(FIND(" ",J36)),ISERROR(FIND(" ",J36))),Ref!H36,Ref!$I$107)) -> 15 | M36: BriADD549は、蛍光色素VICと同一の蛍光スペクトル特性（最大励起波長：529 nm、最大蛍光波長: 549 nm）を示す蛍光色素です。

Sheet Ref
A5: Comment | B5: 精製 | C5: 納品形態 | D5: 5'修飾 | E5: 3'修飾 | F5: スケール | G5: 試料名 | H5: 塩基配列情報 | I5: 入力文字数 | J5: ATGC以外の | K5: 事前ご相談事項 | M5: 塩基配列情報 | N5: A | O5: T | P5: G | Q5: C | R5: ATCG
A6: LEN | D6: 選択不要 | E6: 選択不要 | F6: 選択不要 | J6: 文字数(確認用) | M6: ASC | N6: 以外の文字数 | O6: 以外の文字数 | P6: 以外の文字数 | Q6: 以外の文字数 | R6: 以外の文字数 | S6: 金額 | T6: 金額（金額×本数）
A7: =LEN('Order Sheet'!#REF!) -> #REF! | B7: =LEN('Order Sheet'!D7) -> 9 | C7: =LEN('Order Sheet'!E7) -> 5 | G7: =LEN('Order Sheet'!I7) -> 14 | H7: =LEN('Order Sheet'!J7) -> 24 | I7: =LEN('Order Sheet'!L7) -> 2 | J7: =LEN('Order Sheet'!#REF!) -> #REF! | K7: =LEN('Order Sheet'!M7) -> 0 | M7: =ASC(LOWER('Order Sheet'!J7)) -> ccagccatgtgaaactgaggaaga | N7: =H7-LEN(SUBSTITUTE(M7,"a","")) -> 9 | O7: =H7-LEN(SUBSTITUTE(M7,"t","")) -> 3 | P7: =H7-LEN(SUBSTITUTE(M7,"g","")) -> 7 | Q7: =H7-LEN(SUBSTITUTE(M7,"c","")) -> 5 | R7: =H7-(N7+O7+P7+Q7) -> 0 | S7: ='Order Sheet'!A7*'Order Sheet'!#REF! -> #REF! | T7: ='Order Sheet'!#REF!*'Order Sheet'!A7 -> #REF!
A8: =LEN('Order Sheet'!#REF!) -> #REF! | B8: =LEN('Order Sheet'!D8) -> 9 | C8: =LEN('Order Sheet'!E8) -> 5 | G8: =LEN('Order Sheet'!I8) -> 14 | H8: =LEN('Order Sheet'!J8) -> 25 | I8: =LEN('Order Sheet'!L8) -> 2 | J8: =LEN('Order Sheet'!#REF!) -> #REF! | K8: =LEN('Order Sheet'!M8) -> 0 | M8: =ASC(LOWER('Order Sheet'!J8)) -> agatgactttctgtctggcacctga | N8: =H8-LEN(SUBSTITUTE(M8,"a","")) -> 5 | O8: =H8-LEN(SUBSTITUTE(M8,"t","")) -> 8 | P8: =H8-LEN(SUBSTITUTE(M8,"g","")) -> 6 | Q8: =H8-LEN(SUBSTITUTE(M8,"c","")) -> 6 | R8: =H8-(N8+O8+P8+Q8) -> 0 | S8: ='Order Sheet'!A8*'Order Sheet'!#REF! -> #REF! | T8: ='Order Sheet'!#REF!*'Order Sheet'!A8 -> #REF!
A9: =LEN('Order Sheet'!#REF!) -> #REF! | B9: =LEN('Order Sheet'!D9) -> 4 | C9: =LEN('Order Sheet'!E9) -> 5 | G9: =LEN('Order Sheet'!I9) -> 14 | H9: =LEN('Order Sheet'!J9) -> 26 | I9: =LEN('Order Sheet'!L9) -> 2 | J9: =LEN('Order Sheet'!#REF!) -> #REF! | K9: =LEN('Order Sheet'!M9) -> 0 | M9: =ASC(LOWER('Order Sheet'!J9)) -> tcctccccactggaacaccaaattga | N9: =H9-LEN(SUBSTITUTE(M9,"a","")) -> 8 | O9: =H9-LEN(SUBSTITUTE(M9,"t","")) -> 5 | P9: =H9-LEN(SUBSTITUTE(M9,"g","")) -> 3 | Q9: =H9-LEN(SUBSTITUTE(M9,"c","")) -> 10 | R9: =H9-(N9+O9+P9+Q9) -> 0 | S9: ='Order Sheet'!A9*'Order Sheet'!#REF! -> #REF! | T9: ='Order Sheet'!#REF!*'Order Sheet'!A9 -> #REF!
A10: =LEN('Order Sheet'!#REF!) -> #REF! | B10: =LEN('Order Sheet'!D10) -> 9 | C10: =LEN('Order Sheet'!E10) -> 5 | G10: =LEN('Order Sheet'!I10) -> 7 | H10: =LEN('Order Sheet'!J10) -> 24 | I10: =LEN('Order Sheet'!L10) -> 2 | J10: =LEN('Order Sheet'!#REF!) -> #REF! | K10: =LEN('Order Sheet'!M10) -> 0 | M10: =ASC(LOWER('Order Sheet'!J10)) -> cctgctttatgcaaaacaagagca | N10: =H10-LEN(SUBSTITUTE(M10,"a","")) -> 9 | O10: =H10-LEN(SUBSTITUTE(M10,"t","")) -> 5 | P10: =H10-LEN(SUBSTITUTE(M10,"g","")) -> 4 | Q10: =H10-LEN(SUBSTITUTE(M10,"c","")) -> 6 | R10: =H10-(N10+O10+P10+Q10) -> 0 | S10: ='Order Sheet'!A10*'Order Sheet'!#REF! -> #REF! | T10: ='Order Sheet'!#REF!*'Order Sheet'!A10 -> #REF!
A11: =LEN('Order Sheet'!#REF!) -> #REF! | B11: =LEN('Order Sheet'!D11) -> 9 | C11: =LEN('Order Sheet'!E11) -> 5 | G11: =LEN('Order Sheet'!I11) -> 7 | H11: =LEN('Order Sheet'!J11) -> 20 | I11: =LEN('Order Sheet'!L11) -> 2 | J11: =LEN('Order Sheet'!#REF!) -> #REF! | K11: =LEN('Order Sheet'!M11) -> 0 | M11: =ASC(LOWER('Order Sheet'!J11)) -> aggtgcctgccagctaccac | N11: =H11-LEN(SUBSTITUTE(M11,"a","")) -> 4 | O11: =H11-LEN(SUBSTITUTE(M11,"t","")) -> 3 | P11: =H11-LEN(SUBSTITUTE(M11,"g","")) -> 5 | Q11: =H11-LEN(SUBSTITUTE(M11,"c","")) -> 8 | R11: =H11-(N11+O11+P11+Q11) -> 0 | S11: ='Order Sheet'!A11*'Order Sheet'!#REF! -> #REF! | T11: ='Order Sheet'!#REF!*'Order Sheet'!A11 -> #REF!
A12: =LEN('Order Sheet'!#REF!) -> #REF! | B12: =LEN('Order Sheet'!D12) -> 4 | C12: =LEN('Order Sheet'!E12) -> 5 | G12: =LEN('Order Sheet'!I12) -> 7 | H12: =LEN('Order Sheet'!J12) -> 17 | I12: =LEN('Order Sheet'!L12) -> 2 | J12: =LEN('Order Sheet'!#REF!) -> #REF! | K12: =LEN('Order Sheet'!M12) -> 0 | M12: =ASC(LOWER('Order Sheet'!J12)) -> tagaacacccaagaaag | N12: =H12-LEN(SUBSTITUTE(M12,"a","")) -> 9 | O12: =H12-LEN(SUBSTITUTE(M12,"t","")) -> 1 | P12: =H12-LEN(SUBSTITUTE(M12,"g","")) -> 3 | Q12: =H12-LEN(SUBSTITUTE(M12,"c","")) -> 4 | R12: =H12-(N12+O12+P12+Q12) -> 0 | S12: ='Order Sheet'!A12*'Order Sheet'!#REF! -> #REF! | T12: ='Order Sheet'!#REF!*'Order Sheet'!A12 -> #REF!
A13: =LEN('Order Sheet'!#REF!) -> #REF! | B13: =LEN('Order Sheet'!D13) -> 9 | C13: =LEN('Order Sheet'!E13) -> 5 | G13: =LEN('Order Sheet'!I13) -> 12 | H13: =LEN('Order Sheet'!J13) -> 19 | I13: =LEN('Order Sheet'!L13) -> 2 | J13: =LEN('Order Sheet'!#REF!) -> #REF! | K13: =LEN('Order Sheet'!M13) -> 0 | M13: =ASC(LOWER('Order Sheet'!J13)) -> ccagccacatggaactggc | N13: =H13-LEN(SUBSTITUTE(M13,"a","")) -> 5 | O13: =H13-LEN(SUBSTITUTE(M13,"t","")) -> 2 | P13: =H13-LEN(SUBSTITUTE(M13,"g","")) -> 5 | Q13: =H13-LEN(SUBSTITUTE(M13,"c","")) -> 7 | R13: =H13-(N13+O13+P13+Q13) -> 0 | S13: ='Order Sheet'!A13*'Order Sheet'!#REF! -> #REF! | T13: ='Order Sheet'!#REF!*'Order Sheet'!A13 -> #REF!
A14: =LEN('Order Sheet'!#REF!) -> #REF! | B14: =LEN('Order Sheet'!D14) -> 9 | C14: =LEN('Order Sheet'!E14) -> 5 | G14: =LEN('Order Sheet'!I14) -> 12 | H14: =LEN('Order Sheet'!J14) -> 28 | I14: =LEN('Order Sheet'!L14) -> 2 | J14: =LEN('Order Sheet'!#REF!) -> #REF! | K14: =LEN('Order Sheet'!M14) -> 0 | M14: =ASC(LOWER('Order Sheet'!J14)) -> tctccagtcgatctaatttcctgagaag | N14: =H14-LEN(SUBSTITUTE(M14,"a","")) -> 7 | O14: =H14-LEN(SUBSTITUTE(M14,"t","")) -> 9 | P14: =H14-LEN(SUBSTITUTE(M14,"g","")) -> 5 | Q14: =H14-LEN(SUBSTITUTE(M14,"c","")) -> 7 | R14: =H14-(N14+O14+P14+Q14) -> 0 | S14: ='Order Sheet'!A14*'Order Sheet'!#REF! -> #REF! | T14: ='Order Sheet'!#REF!*'Order Sheet'!A14 -> #REF!
A15: =LEN('Order Sheet'!#REF!) -> #REF! | B15: =LEN('Order Sheet'!D15) -> 4 | C15: =LEN('Order Sheet'!E15) -> 5 | G15: =LEN('Order Sheet'!I15) -> 12 | H15: =LEN('Order Sheet'!J15) -> 24 | I15: =LEN('Order Sheet'!L15) -> 2 | J15: =LEN('Order Sheet'!#REF!) -> #REF! | K15: =LEN('Order Sheet'!M15) -> 0 | M15: =ASC(LOWER('Order Sheet'!J15)) -> catcgatgcacccctcggagctaa | N15: =H15-LEN(SUBSTITUTE(M15,"a","")) -> 6 | O15: =H15-LEN(SUBSTITUTE(M15,"t","")) -> 4 | P15: =H15-LEN(SUBSTITUTE(M15,"g","")) -> 5 | Q15: =H15-LEN(SUBSTITUTE(M15,"c","")) -> 9 | R15: =H15-(N15+O15+P15+Q15) -> 0 | S15: ='Order Sheet'!A15*'Order Sheet'!#REF! -> #REF! | T15: ='Order Sheet'!#REF!*'Order Sheet'!A15 -> #REF!
A16: =LEN('Order Sheet'!#REF!) -> #REF! | B16: =LEN('Order Sheet'!D16) -> 9 | C16: =LEN('Order Sheet'!E16) -> 5 | G16: =LEN('Order Sheet'!I16) -> 16 | H16: =LEN('Order Sheet'!J16) -> 37 | I16: =LEN('Order Sheet'!L16) -> 2 | J16: =LEN('Order Sheet'!#REF!) -> #REF! | K16: =LEN('Order Sheet'!M16) -> 0 | M16: =ASC(LOWER('Order Sheet'!J16)) -> aaaaaatgtactaacagatatgtaaagtctgtcatcc | N16: =H16-LEN(SUBSTITUTE(M16,"a","")) -> 16 | O16: =H16-LEN(SUBSTITUTE(M16,"t","")) -> 10 | P16: =H16-LEN(SUBSTITUTE(M16,"g","")) -> 5 | Q16: =H16-LEN(SUBSTITUTE(M16,"c","")) -> 6 | R16: =H16-(N16+O16+P16+Q16) -> 0 | S16: ='Order Sheet'!A16*'Order Sheet'!#REF! -> #REF! | T16: ='Order Sheet'!#REF!*'Order Sheet'!A16 -> #REF!
A17: =LEN('Order Sheet'!#REF!) -> #REF! | B17: =LEN('Order Sheet'!D17) -> 9 | C17: =LEN('Order Sheet'!E17) -> 5 | G17: =LEN('Order Sheet'!I17) -> 16 | H17: =LEN('Order Sheet'!J17) -> 39 | I17: =LEN('Order Sheet'!L17) -> 2 | J17: =LEN('Order Sheet'!#REF!) -> #REF! | K17: =LEN('Order Sheet'!M17) -> 0 | M17: =ASC(LOWER('Order Sheet'!J17)) -> caaagataatttgaataaatataaagaaatttcgtgttc | N17: =H17-LEN(SUBSTITUTE(M17,"a","")) -> 18 | O17: =H17-LEN(SUBSTITUTE(M17,"t","")) -> 13 | P17: =H17-LEN(SUBSTITUTE(M17,"g","")) -> 5 | Q17: =H17-LEN(SUBSTITUTE(M17,"c","")) -> 3 | R17: =H17-(N17+O17+P17+Q17) -> 0 | S17: ='Order Sheet'!A17*'Order Sheet'!#REF! -> #REF! | T17: ='Order Sheet'!#REF!*'Order Sheet'!A17 -> #REF!
A18: =LEN('Order Sheet'!#REF!) -> #REF! | B18: =LEN('Order Sheet'!D18) -> 4 | C18: =LEN('Order Sheet'!E18) -> 5 | G18: =LEN('Order Sheet'!I18) -> 16 | H18: =LEN('Order Sheet'!J18) -> 20 | I18: =LEN('Order Sheet'!L18) -> 2 | J18: =LEN('Order Sheet'!#REF!) -> #REF! | K18: =LEN('Order Sheet'!M18) -> 0 | M18: =ASC(LOWER('Order Sheet'!J18)) -> caaattttgcctacggtatg | N18: =H18-LEN(SUBSTITUTE(M18,"a","")) -> 5 | O18: =H18-LEN(SUBSTITUTE(M18,"t","")) -> 7 | P18: =H18-LEN(SUBSTITUTE(M18,"g","")) -> 4 | Q18: =H18-LEN(SUBSTITUTE(M18,"c","")) -> 4 | R18: =H18-(N18+O18+P18+Q18) -> 0 | S18: ='Order Sheet'!A18*'Order Sheet'!#REF! -> #REF! | T18: ='Order Sheet'!#REF!*'Order Sheet'!A18 -> #REF!
... A36: =LEN('Order Sheet'!#REF!) -> #REF! | B36: =LEN('Order Sheet'!D36) -> 4 | C36: =LEN('Order Sheet'!E36) -> 5 | G36: =LEN('Order Sheet'!I36) -> 5 | H36: =LEN('Order Sheet'!J36) -> 15 | I36: =LEN('Order Sheet'!L36) -> 2 | J36: =LEN('Order Sheet'!#REF!) -> #REF! | K36: =LEN('Order Sheet'!M36) -> 71 | M36: =ASC(LOWER('Order Sheet'!J36)) -> ttgtaccgcagctgc | N36: =H36-LEN(SUBSTITUTE(M36,"a","")) -> 2 | O36: =H36-LEN(SUBSTITUTE(M36,"t","")) -> 4 | P36: =H36-LEN(SUBSTITUTE(M36,"g","")) -> 4 | Q36: =H36-LEN(SUBSTITUTE(M36,"c","")) -> 5 | R36: =H36-(N36+O36+P36+Q36) -> 0 | S36: ='Order Sheet'!A36*'Order Sheet'!#REF! -> #REF! | T36: ='Order Sheet'!#REF!*'Order Sheet'!A36 -> #REF!
A37: =LEN('Order Sheet'!#REF!) -> #REF! | B37: =LEN('Order Sheet'!#REF!) -> #REF! | C37: =LEN('Order Sheet'!#REF!) -> #REF! | G37: =LEN('Order Sheet'!#REF!) -> #REF! | H37: =LEN('Order Sheet'!#REF!) -> #REF! | I37: =LEN('Order Sheet'!#REF!) -> #REF! | J37: =LEN('Order Sheet'!#REF!) -> #REF! | K37: =LEN('Order Sheet'!#REF!) -> #REF! | M37: =ASC(LOWER('Order Sheet'!#REF!)) -> #REF! | N37: =H37-LEN(SUBSTITUTE(M37,"a","")) -> #REF! | O37: =H37-LEN(SUBSTITUTE(M37,"t","")) -> #REF! | P37: =H37-LEN(SUBSTITUTE(M37,"g","")) -> #REF! | Q37: =H37-LEN(SUBSTITUTE(M37,"c","")) -> #REF! | R37: =H37-(N37+O37+P37+Q37) -> #REF!
A38: =LEN('Order Sheet'!#REF!) -> #REF! | B38: =LEN('Order Sheet'!#REF!) -> #REF! | C38: =LEN('Order Sheet'!#REF!) -> #REF! | G38: =LEN('Order Sheet'!#REF!) -> #REF! | H38: =LEN('Order Sheet'!#REF!) -> #REF! | I38: =LEN('Order Sheet'!#REF!) -> #REF! | J38: =LEN('Order Sheet'!#REF!) -> #REF! | K38: =LEN('Order Sheet'!#REF!) -> #REF! | M38: =ASC(LOWER('Order Sheet'!#REF!)) -> #REF! | N38: =H38-LEN(SUBSTITUTE(M38,"a","")) -> #REF! | O38: =H38-LEN(SUBSTITUTE(M38,"t","")) -> #REF! | P38: =H38-LEN(SUBSTITUTE(M38,"g","")) -> #REF! | Q38: =H38-LEN(SUBSTITUTE(M38,"c","")) -> #REF! | R38: =H38-(N38+O38+P38+Q38) -> #REF!
A39: =LEN('Order Sheet'!#REF!) -> #REF! | B39: =LEN('Order Sheet'!#REF!) -> #REF! | C39: =LEN('Order Sheet'!#REF!) -> #REF! | G39: =LEN('Order Sheet'!#REF!) -> #REF! | H39: =LEN('Order Sheet'!#REF!) -> #REF! | I39: =LEN('Order Sheet'!#REF!) -> #REF! | J39: =LEN('Order Sheet'!#REF!) -> #REF! | K39: =LEN('Order Sheet'!#REF!) -> #REF! | M39: =ASC(LOWER('Order Sheet'!#REF!)) -> #REF! | N39: =H39-LEN(SUBSTITUTE(M39,"a","")) -> #REF! | O39: =H39-LEN(SUBSTITUTE(M39,"t","")) -> #REF! | P39: =H39-LEN(SUBSTITUTE(M39,"g","")) -> #REF! | Q39: =H39-LEN(SUBSTITUTE(M39,"c","")) -> #REF! | R39: =H39-(N39+O39+P39+Q39) -> #REF!
A40: =LEN('Order Sheet'!#REF!) -> #REF! | B40: =LEN('Order Sheet'!#REF!) -> #REF! | C40: =LEN('Order Sheet'!#REF!) -> #REF! | G40: =LEN('Order Sheet'!#REF!) -> #REF! | H40: =LEN('Order Sheet'!#REF!) -> #REF! | I40: =LEN('Order Sheet'!#REF!) -> #REF! | J40: =LEN('Order Sheet'!#REF!) -> #REF! | K40: =LEN('Order Sheet'!#REF!) -> #REF! | M40: =ASC(LOWER('Order Sheet'!#REF!)) -> #REF! | N40: =H40-LEN(SUBSTITUTE(M40,"a","")) -> #REF! | O40: =H40-LEN(SUBSTITUTE(M40,"t","")) -> #REF! | P40: =H40-LEN(SUBSTITUTE(M40,"g","")) -> #REF! | Q40: =H40-LEN(SUBSTITUTE(M40,"c","")) -> #REF! | R40: =H40-(N40+O40+P40+Q40) -> #REF!
A41: =LEN('Order Sheet'!#REF!) -> #REF! | B41: =LEN('Order Sheet'!#REF!) -> #REF! | C41: =LEN('Order Sheet'!#REF!) -> #REF! | G41: =LEN('Order Sheet'!#REF!) -> #REF! | H41: =LEN('Order Sheet'!#REF!) -> #REF! | I41: =LEN('Order Sheet'!#REF!) -> #REF! | J41: =LEN('Order Sheet'!#REF!) -> #REF! | K41: =LEN('Order Sheet'!#REF!) -> #REF! | M41: =ASC(LOWER('Order Sheet'!#REF!)) -> #REF! | N41: =H41-LEN(SUBSTITUTE(M41,"a","")) -> #REF! | O41: =H41-LEN(SUBSTITUTE(M41,"t","")) -> #REF! | P41: =H41-LEN(SUBSTITUTE(M41,"g","")) -> #REF! | Q41: =H41-LEN(SUBSTITUTE(M41,"c","")) -> #REF! | R41: =H41-(N41+O41+P41+Q41) -> #REF!
A42: =LEN('Order Sheet'!#REF!) -> #REF! | B42: =LEN('Order Sheet'!#REF!) -> #REF! | C42: =LEN('Order Sheet'!#REF!) -> #REF! | G42: =LEN('Order Sheet'!#REF!) -> #REF! | H42: =LEN('Order Sheet'!#REF!) -> #REF! | I42: =LEN('Order Sheet'!#REF!) -> #REF! | J42: =LEN('Order Sheet'!#REF!) -> #REF! | K42: =LEN('Order Sheet'!#REF!) -> #REF! | M42: =ASC(LOWER('Order Sheet'!#REF!)) -> #REF! | N42: =H42-LEN(SUBSTITUTE(M42,"a","")) -> #REF! | O42: =H42-LEN(SUBSTITUTE(M42,"t","")) -> #REF! | P42: =H42-LEN(SUBSTITUTE(M42,"g","")) -> #REF! | Q42: =H42-LEN(SUBSTITUTE(M42,"c","")) -> #REF! | R42: =H42-(N42+O42+P42+Q42) -> #REF!
A43: =LEN('Order Sheet'!#REF!) -> #REF! | B43: =LEN('Order Sheet'!#REF!) -> #REF! | C43: =LEN('Order Sheet'!#REF!) -> #REF! | G43: =LEN('Order Sheet'!#REF!) -> #REF! | H43: =LEN('Order Sheet'!#REF!) -> #REF! | I43: =LEN('Order Sheet'!#REF!) -> #REF! | J43: =LEN('Order Sheet'!#REF!) -> #REF! | K43: =LEN('Order Sheet'!#REF!) -> #REF! | M43: =ASC(LOWER('Order Sheet'!#REF!)) -> #REF! | N43: =H43-LEN(SUBSTITUTE(M43,"a","")) -> #REF! | O43: =H43-LEN(SUBSTITUTE(M43,"t","")) -> #REF! | P43: =H43-LEN(SUBSTITUTE(M43,"g","")) -> #REF! | Q43: =H43-LEN(SUBSTITUTE(M43,"c","")) -> #REF! | R43: =H43-(N43+O43+P43+Q43) -> #REF!
A44: =LEN('Order Sheet'!#REF!) -> #REF! | B44: =LEN('Order Sheet'!#REF!) -> #REF! | C44: =LEN('Order Sheet'!#REF!) -> #REF! | G44: =LEN('Order Sheet'!#REF!) -> #REF! | H44: =LEN('Order Sheet'!#REF!) -> #REF! | I44: =LEN('Order Sheet'!#REF!) -> #REF! | J44: =LEN('Order Sheet'!#REF!) -> #REF! | K44: =LEN('Order Sheet'!#REF!) -> #REF! | M44: =ASC(LOWER('Order Sheet'!#REF!)) -> #REF! | N44: =H44-LEN(SUBSTITUTE(M44,"a","")) -> #REF! | O44: =H44-LEN(SUBSTITUTE(M44,"t","")) -> #REF! | P44: =H44-LEN(SUBSTITUTE(M44,"g","")) -> #REF! | Q44: =H44-LEN(SUBSTITUTE(M44,"c","")) -> #REF! | R44: =H44-(N44+O44+P44+Q44) -> #REF!
A45: =LEN('Order Sheet'!#REF!) -> #REF! | B45: =LEN('Order Sheet'!#REF!) -> #REF! | C45: =LEN('Order Sheet'!#REF!) -> #REF! | G45: =LEN('Order Sheet'!#REF!) -> #REF! | H45: =LEN('Order Sheet'!#REF!) -> #REF! | I45: =LEN('Order Sheet'!#REF!) -> #REF! | J45: =LEN('Order Sheet'!#REF!) -> #REF! | K45: =LEN('Order Sheet'!#REF!) -> #REF! | M45: =ASC(LOWER('Order Sheet'!#REF!)) -> #REF! | N45: =H45-LEN(SUBSTITUTE(M45,"a","")) -> #REF! | O45: =H45-LEN(SUBSTITUTE(M45,"t","")) -> #REF! | P45: =H45-LEN(SUBSTITUTE(M45,"g","")) -> #REF! | Q45: =H45-LEN(SUBSTITUTE(M45,"c","")) -> #REF! | R45: =H45-(N45+O45+P45+Q45) -> #REF!
A46: =LEN('Order Sheet'!#REF!) -> #REF! | B46: =LEN('Order Sheet'!#REF!) -> #REF! | C46: =LEN('Order Sheet'!#REF!) -> #REF! | G46: =LEN('Order Sheet'!#REF!) -> #REF! | H46: =LEN('Order Sheet'!#REF!) -> #REF! | I46: =LEN('Order Sheet'!#REF!) -> #REF! | J46: =LEN('Order Sheet'!#REF!) -> #REF! | K46: =LEN('Order Sheet'!#REF!) -> #REF! | M46: =ASC(LOWER('Order Sheet'!#REF!)) -> #REF! | N46: =H46-LEN(SUBSTITUTE(M46,"a","")) -> #REF! | O46: =H46-LEN(SUBSTITUTE(M46,"t","")) -> #REF! | P46: =H46-LEN(SUBSTITUTE(M46,"g","")) -> #REF! | Q46: =H46-LEN(SUBSTITUTE(M46,"c","")) -> #REF! | R46: =H46-(N46+O46+P46+Q46) -> #REF!
A47: =LEN('Order Sheet'!#REF!) -> #REF! | B47: =LEN('Order Sheet'!#REF!) -> #REF! | C47: =LEN('Order Sheet'!#REF!) -> #REF! | G47: =LEN('Order Sheet'!#REF!) -> #REF! | H47: =LEN('Order Sheet'!#REF!) -> #REF! | I47: =LEN('Order Sheet'!#REF!) -> #REF! | J47: =LEN('Order Sheet'!#REF!) -> #REF! | K47: =LEN('Order Sheet'!#REF!) -> #REF! | M47: =ASC(LOWER('Order Sheet'!#REF!)) -> #REF! | N47: =H47-LEN(SUBSTITUTE(M47,"a","")) -> #REF! | O47: =H47-LEN(SUBSTITUTE(M47,"t","")) -> #REF! | P47: =H47-LEN(SUBSTITUTE(M47,"g","")) -> #REF! | Q47: =H47-LEN(SUBSTITUTE(M47,"c","")) -> #REF! | R47: =H47-(N47+O47+P47+Q47) -> #REF!
A48: =LEN('Order Sheet'!#REF!) -> #REF! | B48: =LEN('Order Sheet'!#REF!) -> #REF! | C48: =LEN('Order Sheet'!#REF!) -> #REF! | G48: =LEN('Order Sheet'!#REF!) -> #REF! | H48: =LEN('Order Sheet'!#REF!) -> #REF! | I48: =LEN('Order Sheet'!#REF!) -> #REF! | J48: =LEN('Order Sheet'!#REF!) -> #REF! | K48: =LEN('Order Sheet'!#REF!) -> #REF! | M48: =ASC(LOWER('Order Sheet'!#REF!)) -> #REF! | N48: =H48-LEN(SUBSTITUTE(M48,"a","")) -> #REF! | O48: =H48-LEN(SUBSTITUTE(M48,"t","")) -> #REF! | P48: =H48-LEN(SUBSTITUTE(M48,"g","")) -> #REF! | Q48: =H48-LEN(SUBSTITUTE(M48,"c","")) -> #REF! | R48: =H48-(N48+O48+P48+Q48) -> #REF!
... A102: =LEN('Order Sheet'!#REF!) -> #REF! | B102: =LEN('Order Sheet'!#REF!) -> #REF! | C102: =LEN('Order Sheet'!#REF!) -> #REF! | G102: =LEN('Order Sheet'!#REF!) -> #REF! | H102: =LEN('Order Sheet'!#REF!) -> #REF! | I102: =LEN('Order Sheet'!#REF!) -> #REF! | J102: =LEN('Order Sheet'!#REF!) -> #REF! | K102: =LEN('Order Sheet'!#REF!) -> #REF! | M102: =ASC(LOWER('Order Sheet'!#REF!)) -> #REF! | N102: =H102-LEN(SUBSTITUTE(M102,"a","")) -> #REF! | O102: =H102-LEN(SUBSTITUTE(M102,"t","")) -> #REF! | P102: =H102-LEN(SUBSTITUTE(M102,"g","")) -> #REF! | Q102: =H102-LEN(SUBSTITUTE(M102,"c","")) -> #REF! | R102: =H102-(N102+O102+P102+Q102) -> #REF!
A106: 試料名または配列が未入力です | B106: Liquid (100 uM) | I106: 鎖長オーバー
A107: 精製または納品形態が未入力です | B107: Dried | I107: スペースあり
A108: 配列を確認してください
A109: 14mer以下の納品形態は「Dried」です
A110: ok
